BEGIN:VCALENDAR
VERSION:2.0
PRODID:-//Village-parenty.fr - ECPv6.3.1//NONSGML v1.0//EN
CALSCALE:GREGORIAN
METHOD:PUBLISH
X-WR-CALNAME:Village-parenty.fr
X-ORIGINAL-URL:https://www.village-parenty.fr
X-WR-CALDESC:évènements pour Village-parenty.fr
REFRESH-INTERVAL;VALUE=DURATION:PT1H
X-Robots-Tag:noindex
X-PUBLISHED-TTL:PT1H
BEGIN:VTIMEZONE
TZID:Europe/Paris
BEGIN:DAYLIGHT
TZOFFSETFROM:+0100
TZOFFSETTO:+0200
TZNAME:CEST
DTSTART:20220327T010000
END:DAYLIGHT
BEGIN:STANDARD
TZOFFSETFROM:+0200
TZOFFSETTO:+0100
TZNAME:CET
DTSTART:20221030T010000
END:STANDARD
END:VTIMEZONE
BEGIN:VEVENT
DTSTART;TZID=Europe/Paris:20220618T193000
DTEND;TZID=Europe/Paris:20220619T020000
DTSTAMP:20260423T172903
CREATED:20220509T205536Z
LAST-MODIFIED:20220509T205536Z
UID:2454-1655580600-1655604000@www.village-parenty.fr
SUMMARY:Soirée dansante - samedi 18 juin 2022
DESCRIPTION:L’association de la bibliothèque de Parenty organise une soirée dansante à la salle des fêtes le samedi 18 juin 2022 de dès 19h30. \nSoirée animée par DJ Flo \navec son repas & 1 sangria offerte. \nAu menu : Frites et Potjevleesch / Assiette de fromage / café gourmand \nPAF : 18€ par adulte / 9€ par enfant jusqu’à 12 ans et gratuit pour les moins de 6 ans. \nModalité et réservation par téléphone au 06 62 80 43 98 \nRetrouver la page Facebook de l’association => facebook.com/Bibliothèque-de-Parenty
URL:https://www.village-parenty.fr/event/soiree-dansante-samedi-18-juin-2022
LOCATION:Salle des fêtes de Parenty\, 5 route de Desvres\, Parenty\, 62650\, France
CATEGORIES:Bibliothèque
ATTACH;FMTTYPE=image/jpeg:https://www.village-parenty.fr/wp-content/uploads/2022/05/279245938_147445401126646_4902965389926528205_n.jpg
END:VEVENT
END:VCALENDAR