BEGIN:VCALENDAR
VERSION:2.0
PRODID:-//Village-parenty.fr - ECPv6.3.1//NONSGML v1.0//EN
CALSCALE:GREGORIAN
METHOD:PUBLISH
X-WR-CALNAME:Village-parenty.fr
X-ORIGINAL-URL:https://www.village-parenty.fr
X-WR-CALDESC:évènements pour Village-parenty.fr
REFRESH-INTERVAL;VALUE=DURATION:PT1H
X-Robots-Tag:noindex
X-PUBLISHED-TTL:PT1H
BEGIN:VTIMEZONE
TZID:Europe/Paris
BEGIN:DAYLIGHT
TZOFFSETFROM:+0100
TZOFFSETTO:+0200
TZNAME:CEST
DTSTART:20220327T010000
END:DAYLIGHT
BEGIN:STANDARD
TZOFFSETFROM:+0200
TZOFFSETTO:+0100
TZNAME:CET
DTSTART:20221030T010000
END:STANDARD
END:VTIMEZONE
BEGIN:VEVENT
DTSTART;TZID=Europe/Paris:20220625T110000
DTEND;TZID=Europe/Paris:20220625T120000
DTSTAMP:20260423T172902
CREATED:20220524T200206Z
LAST-MODIFIED:20220524T201236Z
UID:2476-1656154800-1656158400@www.village-parenty.fr
SUMMARY:Inauguration du City-Stade - 25 juin 2022
DESCRIPTION:Inauguration du City-Stade le 25 juin prochain : tous invités\nLa réalisation d’un plateau multi-sports complétée par d’autres infrastructures de détente à proximité du terrain de foot de Parenty est aujourd’hui achevée. \nCet équipement qui a nécessité d’importants travaux sera officiellement inauguré le samedi 25 juin à 11 heures. La population est cordialement invitée à y participer. \nBonne nouvelle. Prochainement\, les habitants vont pouvoir bénéficier des installations sportives et de loisirs mises à leur disposition et qui vont ravir la jeunesse parentoise. \nD’autant plus que le City-Stade offre la possibilité d’évoluer dans de nombreuses disciplines telles que le foot\, le hand-ball\, le basket\, le tennis\, le badminton\, le volley\, le hockey. \nEn prolongement\, il est possible de pratiquer la pétanque\, de s’adonner au ping-pong\, d’utiliser les jeux pour enfants ou tout simplement de venir s’y détendre. \nReste désormais à donner un nom à cet espace. \nVous avez votre petite idée ? \nDéposez votre proposition dans une urne spécialement dédiée lors du 1er tour des élections législatives le 12 juin prochain ou faîtes une suggestion sur Facebook Parenty.
URL:https://www.village-parenty.fr/event/inauguration-du-city-stade-25-juin-2022
LOCATION:terrain de foot Parenty\, au croisement de la rue aux hêtres \, de rue de la houssoye et de rue de Campaliane\, Parenty\, 62650\, France
CATEGORIES:Parenty,Plateau multisports
ATTACH;FMTTYPE=image/png:https://www.village-parenty.fr/wp-content/uploads/2022/05/inauguration-city-stade.png
ORGANIZER;CN="Parenty":MAILTO:aperifan@voisinssolidaires.fr
END:VEVENT
END:VCALENDAR