BEGIN:VCALENDAR
VERSION:2.0
PRODID:-//Village-parenty.fr - ECPv6.3.1//NONSGML v1.0//EN
CALSCALE:GREGORIAN
METHOD:PUBLISH
X-WR-CALNAME:Village-parenty.fr
X-ORIGINAL-URL:https://www.village-parenty.fr
X-WR-CALDESC:évènements pour Village-parenty.fr
REFRESH-INTERVAL;VALUE=DURATION:PT1H
X-Robots-Tag:noindex
X-PUBLISHED-TTL:PT1H
BEGIN:VTIMEZONE
TZID:Europe/Paris
BEGIN:DAYLIGHT
TZOFFSETFROM:+0100
TZOFFSETTO:+0200
TZNAME:CEST
DTSTART:20220327T010000
END:DAYLIGHT
BEGIN:STANDARD
TZOFFSETFROM:+0200
TZOFFSETTO:+0100
TZNAME:CET
DTSTART:20221030T010000
END:STANDARD
END:VTIMEZONE
BEGIN:VEVENT
DTSTART;TZID=Europe/Paris:20220714T103000
DTEND;TZID=Europe/Paris:20220714T180000
DTSTAMP:20260423T155602
CREATED:20220525T182649Z
LAST-MODIFIED:20220711T191243Z
UID:2503-1657794600-1657821600@www.village-parenty.fr
SUMMARY:Festivités du 14 Juillet 2022 à Parenty
DESCRIPTION:A l’initiative des associations parentoises et de la Commission des fêtes du Conseil municipal\, venez célébrer de manière conviviale la Fête nationale du 14 juillet au Parencity\, hameau de La Houssoye. \nLes festivités s’ouvriront dès 10h30 sur un match de foot amical auquel vous êtes invités à prendre part. Pour cela\, précisez le sur le bulletin qui a été déposé dans votre boîte aux lettres. \nElles se poursuivront autour d’un apéritif et d’un repas sous chapiteau. Au menu : petite grillade\, jambon grillé et ses pommes de terre\, fromage\, dessert. Boisson incluse. Prix du repas : \n\nplus de 12 ans : 14 euros.\n05 à 12 ans : 7 euros.\nmoins de 05 ans : gratuit.\n\nEn après-midi\, jeux et animations.\nPour participer à ce rassemblement festif\,déposez sans tarder votre bulletin auprès de : \n\nVirginie Lépine au 80 rue de La Houssoye à Parenty\nElisabeth Lemor au 25 rue de Saint-Eloi à Parenty.
URL:https://www.village-parenty.fr/event/festivites-du-14-juillet-2022-a-parenty
LOCATION:terrain de foot Parenty\, au croisement de la rue aux hêtres \, de rue de la houssoye et de rue de Campaliane\, Parenty\, 62650\, France
CATEGORIES:Bibliothèque,Club de l'Avenir,Comité des fêtes,Conseil Municipal Junior,Parenty
ATTACH;FMTTYPE=image/jpeg:https://www.village-parenty.fr/wp-content/uploads/2021/11/4.jpg
ORGANIZER;CN="Parenty":MAILTO:aperifan@voisinssolidaires.fr
END:VEVENT
END:VCALENDAR