BEGIN:VCALENDAR
VERSION:2.0
PRODID:-//Village-parenty.fr - ECPv6.3.1//NONSGML v1.0//EN
CALSCALE:GREGORIAN
METHOD:PUBLISH
X-WR-CALNAME:Village-parenty.fr
X-ORIGINAL-URL:https://www.village-parenty.fr
X-WR-CALDESC:évènements pour Village-parenty.fr
REFRESH-INTERVAL;VALUE=DURATION:PT1H
X-Robots-Tag:noindex
X-PUBLISHED-TTL:PT1H
BEGIN:VTIMEZONE
TZID:Europe/Paris
BEGIN:DAYLIGHT
TZOFFSETFROM:+0100
TZOFFSETTO:+0200
TZNAME:CEST
DTSTART:20230326T010000
END:DAYLIGHT
BEGIN:STANDARD
TZOFFSETFROM:+0200
TZOFFSETTO:+0100
TZNAME:CET
DTSTART:20231029T010000
END:STANDARD
END:VTIMEZONE
BEGIN:VEVENT
DTSTART;VALUE=DATE:20230511
DTEND;VALUE=DATE:20230512
DTSTAMP:20260423T003036
CREATED:20230407T213029Z
LAST-MODIFIED:20230407T213029Z
UID:2623-1683763200-1683849599@www.village-parenty.fr
SUMMARY:Brocante
DESCRIPTION:
URL:https://www.village-parenty.fr/event/brocante
LOCATION:Parenty\, 62650\, France
CATEGORIES:Comité des fêtes
ATTACH;FMTTYPE=image/jpeg:https://www.village-parenty.fr/wp-content/uploads/2023/04/Brocante.jpg
END:VEVENT
BEGIN:VEVENT
DTSTART;TZID=Europe/Paris:20230511T100000
DTEND;TZID=Europe/Paris:20230511T190000
DTSTAMP:20260423T003036
CREATED:20230407T212852Z
LAST-MODIFIED:20230407T212852Z
UID:2621-1683799200-1683831600@www.village-parenty.fr
SUMMARY:Ball-Trap
DESCRIPTION:
URL:https://www.village-parenty.fr/event/ball-trap
LOCATION:Parenty\, 62650\, France
CATEGORIES:Comité des fêtes
ATTACH;FMTTYPE=image/jpeg:https://www.village-parenty.fr/wp-content/uploads/2023/04/Ball-Trap.jpg
END:VEVENT
END:VCALENDAR