BEGIN:VCALENDAR
VERSION:2.0
PRODID:-//Village-parenty.fr - ECPv6.3.1//NONSGML v1.0//EN
CALSCALE:GREGORIAN
METHOD:PUBLISH
X-ORIGINAL-URL:https://www.village-parenty.fr
X-WR-CALDESC:évènements pour Village-parenty.fr
REFRESH-INTERVAL;VALUE=DURATION:PT1H
X-Robots-Tag:noindex
X-PUBLISHED-TTL:PT1H
BEGIN:VTIMEZONE
TZID:Europe/Paris
BEGIN:DAYLIGHT
TZOFFSETFROM:+0100
TZOFFSETTO:+0200
TZNAME:CEST
DTSTART:20210328T010000
END:DAYLIGHT
BEGIN:STANDARD
TZOFFSETFROM:+0200
TZOFFSETTO:+0100
TZNAME:CET
DTSTART:20211031T010000
END:STANDARD
END:VTIMEZONE
BEGIN:VEVENT
DTSTART;TZID=Europe/Paris:20211214T080000
DTEND;TZID=Europe/Paris:20211214T170000
DTSTAMP:20260424T010353
CREATED:20211014T220016Z
LAST-MODIFIED:20211214T204000Z
UID:1852-1639468800-1639501200@www.village-parenty.fr
SUMMARY:Soirée 80
DESCRIPTION:L’ASSOCIATION DE LA BIBLIOTHEQUE DE PARENTY ORGANISE \nSoirée 80 – soirée animée par DJ FLO \nSAMEDI 20 NOVEMBRE 2021 – 19h30 \nSalle des Fêtes de Parenty \nInscription avant le 5 novembre 2021 \n~ Repas ~ Apéritif offert Couscous 1/4 de bouteille de vin Dessert – Café \nPAF – 20€ / adulte 10€ / enfant jusqu’à 12 ans gratuit / moins de 6 ans \nModalités et réservation par téléphone 06-81-60-02-17 ( Maïthé ) et 06-62-80-43-98 ( Anne ) \nPass Sanitaire obligatoire
URL:https://www.village-parenty.fr/event/soiree-80
LOCATION:Salle des fêtes de Parenty\, 5 route de Desvres\, Parenty\, 62650\, France
CATEGORIES:Bibliothèque,Parenty
ATTACH;FMTTYPE=image/jpeg:https://www.village-parenty.fr/wp-content/uploads/2021/10/soiree-80-scaled.jpg
END:VEVENT
END:VCALENDAR