BEGIN:VCALENDAR
VERSION:2.0
PRODID:-//Village-parenty.fr - ECPv6.3.1//NONSGML v1.0//EN
CALSCALE:GREGORIAN
METHOD:PUBLISH
X-WR-CALNAME:Village-parenty.fr
X-ORIGINAL-URL:https://www.village-parenty.fr
X-WR-CALDESC:évènements pour Village-parenty.fr
REFRESH-INTERVAL;VALUE=DURATION:PT1H
X-Robots-Tag:noindex
X-PUBLISHED-TTL:PT1H
BEGIN:VTIMEZONE
TZID:Europe/Paris
BEGIN:DAYLIGHT
TZOFFSETFROM:+0100
TZOFFSETTO:+0200
TZNAME:CEST
DTSTART:20220327T010000
END:DAYLIGHT
BEGIN:STANDARD
TZOFFSETFROM:+0200
TZOFFSETTO:+0100
TZNAME:CET
DTSTART:20221030T010000
END:STANDARD
END:VTIMEZONE
BEGIN:VEVENT
DTSTART;TZID=Europe/Paris:20220301T100000
DTEND;TZID=Europe/Paris:20220301T120000
DTSTAMP:20260423T203213
CREATED:20220201T122700Z
LAST-MODIFIED:20220318T122801Z
UID:2404-1646128800-1646136000@www.village-parenty.fr
SUMMARY:Invitons nous au numérique dès le 1er mars 2022
DESCRIPTION:Invitons nous au numérique ! Dès le 1er mars au CSCI Le mardi – de 10h à 12h \nLes 10 séances 20€ ( avec adhésion à jour ) \nN’hésitez pas à amener vos appareils : Ordinateur / Smartphones / Tablettes \nPour tous les âges \nInscriptions et renseignement : 03 21 90 91 10\naccueil.csc.hucqueliers@gmail.com \nCentre Socioculturel Intercommunal de Hucqueliers – 9 bis rue de la Longeville – 62650 HUCQUELIERS
URL:https://www.village-parenty.fr/event/invitons-nous-au-numerique-des-le-1er-mars-2022
LOCATION:Centre Socioculturel Intercommunal de Hucqueliers\, 9 bis rue de la longeville\, HUCQUELIERS\, 62650\, France
CATEGORIES:Parenty
ATTACH;FMTTYPE=image/jpeg:https://www.village-parenty.fr/wp-content/uploads/2022/03/invitons-nous-au-numerique.jpg
ORGANIZER;CN="Centre Socioculturel Intercommunal de Hucqueliers":MAILTO:accueil.csc.hucqueliers@gmail.com
END:VEVENT
BEGIN:VEVENT
DTSTART;VALUE=DATE:20220318
DTEND;VALUE=DATE:20220319
DTSTAMP:20260423T203213
CREATED:20220207T121159Z
LAST-MODIFIED:20220318T121731Z
UID:2396-1647561600-1647647999@www.village-parenty.fr
SUMMARY:Rallye du Touquet 2022 à Parenty le 18 Mars 2022
DESCRIPTION:C’est reparti pour une nouvelle édition. \nLa 62 -ème édition du Rallye du Touquet se déroulera du 17 au 19 Mars prochains. \nSon parcours totalise une distance de 552 km dont 210 km en ES (épreuves spéciales). \nComme en 2021\, le rallye empruntera les rues de Parenty au cours de deux spéciales\, ce sera le vendredi 18 mars. \nUne buvette placée sous l’organisation des associations locales sera installée sur le terrain de foot. \nA noter que les parcours de reconnaissances se dérouleront les 12\, 13\, 16 et 17 mars. \nRappel du palmarès de ces huit dernières années : \n\n2021 : Bonato (Citroën C3 Rally2)\, Camilli\, Giordano ;\n2020 : Bonato (Citroën C3 R5)\, Brunson\, Giordano ;\n2019 : Ciamin (VW Polo GTi R5)\, Gilbert\, Bonato ;\n2018 : Lefebvre (Citroën DS3 WRC)\, Bouffier\, Bonato ;\n2017 : Brunson (Ford Fiesta WRC)\, Bonato\, Amourette ;\n2016 : Brunson (Ford Fiesta WRC)\, Salanon\, Michel ;\n2015 : Cuoq (Citroën C4 WRC)\, Roche\, Gilbert ;\n2014 : Maurin (Fiesta WRC)\, Gilbert\, Roche.
URL:https://www.village-parenty.fr/event/rallye-du-touquet-2022-a-parenty-le-18-mars-2022
LOCATION:terrain de foot Parenty\, au croisement de la rue aux hêtres \, de rue de la houssoye et de rue de Campaliane\, Parenty\, 62650\, France
CATEGORIES:Parenty
ATTACH;FMTTYPE=image/jpeg:https://www.village-parenty.fr/wp-content/uploads/2022/03/Affiche-Rallye-du-Touquet-2022.jpg
END:VEVENT
BEGIN:VEVENT
DTSTART;TZID=Europe/Paris:20220318T080000
DTEND;TZID=Europe/Paris:20220318T170000
DTSTAMP:20260423T203213
CREATED:20220301T115222Z
LAST-MODIFIED:20220318T122911Z
UID:2389-1647590400-1647622800@www.village-parenty.fr
SUMMARY:Journée récréative à Parenty - dimanche 17 avril 2022
DESCRIPTION:Le comité des fêtes organise le dimanche 17 avril à 14h une journée récréative. Rendez-vous à la salle des fêtes de Parenty. \nOuvert aux enfants de Parenty jusqu’à 11 ans. \nProgramme de l’après-midi : \n\n14h chasse aux œufs\n15h spectacle de ventriloquie\n16h distribution de chocolats\nsuivi du pot de l’amitié
URL:https://www.village-parenty.fr/event/journee-recreative-a-parenty-dimanche-17-avril-2022
LOCATION:Salle des fêtes de Parenty\, 5 route de Desvres\, Parenty\, 62650\, France
CATEGORIES:Comité des fêtes
ATTACH;FMTTYPE=image/jpeg:https://www.village-parenty.fr/wp-content/uploads/2022/03/journee-recreative-Parenty17-avril-.jpg
END:VEVENT
END:VCALENDAR