BEGIN:VCALENDAR
VERSION:2.0
PRODID:-//Village-parenty.fr - ECPv6.3.1//NONSGML v1.0//EN
CALSCALE:GREGORIAN
METHOD:PUBLISH
X-ORIGINAL-URL:https://www.village-parenty.fr
X-WR-CALDESC:évènements pour Village-parenty.fr
REFRESH-INTERVAL;VALUE=DURATION:PT1H
X-Robots-Tag:noindex
X-PUBLISHED-TTL:PT1H
BEGIN:VTIMEZONE
TZID:Europe/Paris
BEGIN:DAYLIGHT
TZOFFSETFROM:+0100
TZOFFSETTO:+0200
TZNAME:CEST
DTSTART:20220327T010000
END:DAYLIGHT
BEGIN:STANDARD
TZOFFSETFROM:+0200
TZOFFSETTO:+0100
TZNAME:CET
DTSTART:20221030T010000
END:STANDARD
END:VTIMEZONE
BEGIN:VEVENT
DTSTART;VALUE=DATE:20220403
DTEND;VALUE=DATE:20220404
DTSTAMP:20260423T190248
CREATED:20220214T063607Z
LAST-MODIFIED:20220318T122838Z
UID:2300-1648944000-1649030399@www.village-parenty.fr
SUMMARY:10ème Trail de la vallée de la course 3 avril 2022
DESCRIPTION:Organisé par le comité des fêtes de Parenty et Bezinghem avec le soutien de l’AC Outreau. \nLe 3 Avril 2022 \nParcours trail : 1\,2\,5\,15 et 30 Km Epreuve du challenge Canche et Mer d’Opale \nRandonnée Pédestre / Marche Nordique : 5\, 10 et 15 Km \nDépart : Salle des fêtes de Parenty \nBuvette et Restauration sur place \nRenseignement et inscription: \nhttps://njuko.net/trailvalleedelacourse2022 \nhttp://trailvalleedelacourse.fr/ \n 
URL:https://www.village-parenty.fr/event/10eme-trail-de-la-vallee-de-la-course-3-avril-2022
CATEGORIES:Comité des fêtes
ATTACH;FMTTYPE=image/jpeg:https://www.village-parenty.fr/wp-content/uploads/2022/01/Trail-de-la-vallee-de-la-course-2022.jpeg
END:VEVENT
BEGIN:VEVENT
DTSTART;TZID=Europe/Paris:20220409T200000
DTEND;TZID=Europe/Paris:20220409T233000
DTSTAMP:20260423T190248
CREATED:20220228T230046Z
LAST-MODIFIED:20220318T114025Z
UID:2384-1649534400-1649547000@www.village-parenty.fr
SUMMARY:Lotoquine à Parenty - Samedi 09 avril 2022
DESCRIPTION:Lotoquine Organisé par le Comité des fêtes de Parenty à la Salle des fêtes le Samedi 09 avril 2022 à 20h30. \nSoirée animé par Phildéco. \nSpécial boîtes de 50 à 400€ et parties spéciales. \nTarif des cartes : \n\n3 cartes 10€\n5 cartes 15€\n7 cartes 20€\n\nDurant la soirée : \n\nPetite restauration et buvette sur place\n\nPossibilité de réservation au 07 86 80 29 29
URL:https://www.village-parenty.fr/event/lotoquine-a-parenty-samedi-09-avril-2022
LOCATION:Salle des fêtes de Parenty\, 5 route de Desvres\, Parenty\, 62650\, France
CATEGORIES:Comité des fêtes
ATTACH;FMTTYPE=image/jpeg:https://www.village-parenty.fr/wp-content/uploads/2022/03/lotoquine-paranty-09-avril-2022.jpg
END:VEVENT
BEGIN:VEVENT
DTSTART;TZID=Europe/Paris:20220416T143000
DTEND;TZID=Europe/Paris:20220416T170000
DTSTAMP:20260423T190248
CREATED:20220406T170807Z
LAST-MODIFIED:20220415T180816Z
UID:2423-1650119400-1650128400@www.village-parenty.fr
SUMMARY:Pâques avec la bibliothèque de Parenty - samedi 16 avril 2022
DESCRIPTION:L’association de la bibliothèque de Parenty propose de fêter Pâques à la salle des fêtes le samedi 16 avril 2022 de 14h30 à 17h00 \nAu programme : \n\nActivités manuelles\nJeux collectifs\nGoûter\n\nPour les enfants dès 3 ans. Inscription jusqu’au 8 avril 2022. Contactez Anne au 06 62 80 43 98 \nParticipation aux frais : 2€ et toujours gratuit pour les adhérents.
URL:https://www.village-parenty.fr/event/paques-avec-la-bibliotheque-de-parenty-samedi-16-avril-2022
LOCATION:Salle des fêtes de Parenty\, 5 route de Desvres\, Parenty\, 62650\, France
CATEGORIES:Bibliothèque
ATTACH;FMTTYPE=image/jpeg:https://www.village-parenty.fr/wp-content/uploads/2022/04/paques-asso-biblioteque-parent-2022.jpg
END:VEVENT
END:VCALENDAR