BEGIN:VCALENDAR
VERSION:2.0
PRODID:-//Village-parenty.fr - ECPv6.3.1//NONSGML v1.0//EN
CALSCALE:GREGORIAN
METHOD:PUBLISH
X-WR-CALNAME:Village-parenty.fr
X-ORIGINAL-URL:https://www.village-parenty.fr
X-WR-CALDESC:évènements pour Village-parenty.fr
REFRESH-INTERVAL;VALUE=DURATION:PT1H
X-Robots-Tag:noindex
X-PUBLISHED-TTL:PT1H
BEGIN:VTIMEZONE
TZID:Europe/Paris
BEGIN:DAYLIGHT
TZOFFSETFROM:+0100
TZOFFSETTO:+0200
TZNAME:CEST
DTSTART:20230326T010000
END:DAYLIGHT
BEGIN:STANDARD
TZOFFSETFROM:+0200
TZOFFSETTO:+0100
TZNAME:CET
DTSTART:20231029T010000
END:STANDARD
END:VTIMEZONE
BEGIN:VEVENT
DTSTART;TZID=Europe/Paris:20230409T110000
DTEND;TZID=Europe/Paris:20230409T120000
DTSTAMP:20260423T002958
CREATED:20230407T212135Z
LAST-MODIFIED:20230407T212135Z
UID:2615-1681038000-1681041600@www.village-parenty.fr
SUMMARY:Course au Oeufs
DESCRIPTION:
URL:https://www.village-parenty.fr/event/course-au-oeufs
LOCATION:terrain de foot Parenty\, au croisement de la rue aux hêtres \, de rue de la houssoye et de rue de Campaliane\, Parenty\, 62650\, France
CATEGORIES:Comité des fêtes
ATTACH;FMTTYPE=image/jpeg:https://www.village-parenty.fr/wp-content/uploads/2023/04/Course-aux-Oeuf.jpg
END:VEVENT
END:VCALENDAR