BEGIN:VCALENDAR
VERSION:2.0
PRODID:-//Village-parenty.fr - ECPv6.3.1//NONSGML v1.0//EN
CALSCALE:GREGORIAN
METHOD:PUBLISH
X-ORIGINAL-URL:https://www.village-parenty.fr
X-WR-CALDESC:évènements pour Village-parenty.fr
REFRESH-INTERVAL;VALUE=DURATION:PT1H
X-Robots-Tag:noindex
X-PUBLISHED-TTL:PT1H
BEGIN:VTIMEZONE
TZID:Europe/Paris
BEGIN:DAYLIGHT
TZOFFSETFROM:+0100
TZOFFSETTO:+0200
TZNAME:CEST
DTSTART:20230326T010000
END:DAYLIGHT
BEGIN:STANDARD
TZOFFSETFROM:+0200
TZOFFSETTO:+0100
TZNAME:CET
DTSTART:20231029T010000
END:STANDARD
END:VTIMEZONE
BEGIN:VEVENT
DTSTART;TZID=Europe/Paris:20231031T200000
DTEND;TZID=Europe/Paris:20231031T220000
DTSTAMP:20260422T154304
CREATED:20231022T195047Z
LAST-MODIFIED:20231022T195353Z
UID:2687-1698782400-1698789600@www.village-parenty.fr
SUMMARY:Boom Déguisée
DESCRIPTION:Viens déguisé pour danser et déguster les gateaux Diaboliques\nEnfant et Ado – Participation 2€\nInscription contacter Anne au 06.62.80.43.98\nFacebook – Bibliothéque de Parenty
URL:https://www.village-parenty.fr/event/boom-deguisee
LOCATION:Salle des fêtes de Parenty\, 5 route de Desvres\, Parenty\, 62650\, France
CATEGORIES:Bibliothèque
ATTACH;FMTTYPE=image/jpeg:https://www.village-parenty.fr/wp-content/uploads/2023/10/Boom-Deguisee.jpg
END:VEVENT
END:VCALENDAR