BEGIN:VCALENDAR
VERSION:2.0
PRODID:-//Village-parenty.fr - ECPv6.3.1//NONSGML v1.0//EN
CALSCALE:GREGORIAN
METHOD:PUBLISH
X-ORIGINAL-URL:https://www.village-parenty.fr
X-WR-CALDESC:évènements pour Village-parenty.fr
REFRESH-INTERVAL;VALUE=DURATION:PT1H
X-Robots-Tag:noindex
X-PUBLISHED-TTL:PT1H
BEGIN:VTIMEZONE
TZID:Europe/Paris
BEGIN:DAYLIGHT
TZOFFSETFROM:+0100
TZOFFSETTO:+0200
TZNAME:CEST
DTSTART:20230326T010000
END:DAYLIGHT
BEGIN:STANDARD
TZOFFSETFROM:+0200
TZOFFSETTO:+0100
TZNAME:CET
DTSTART:20231029T010000
END:STANDARD
END:VTIMEZONE
BEGIN:VEVENT
DTSTART;TZID=Europe/Paris:20231209T080000
DTEND;TZID=Europe/Paris:20231209T170000
DTSTAMP:20260422T124513
CREATED:20231205T205233Z
LAST-MODIFIED:20231205T205233Z
UID:2700-1702108800-1702141200@www.village-parenty.fr
SUMMARY:Spectacle de Noel
DESCRIPTION:
URL:https://www.village-parenty.fr/event/spectacle-de-noel
LOCATION:Salle des fêtes de Parenty\, 5 route de Desvres\, Parenty\, 62650\, France
CATEGORIES:Comité des fêtes
ATTACH;FMTTYPE=image/jpeg:https://www.village-parenty.fr/wp-content/uploads/2023/12/noel-2023.jpg
END:VEVENT
END:VCALENDAR